BEGIN:VCALENDAR
VERSION:2.0
PRODID:-//Friends of the North Pikes Creek Wetlands - ECPv6.15.20//NONSGML v1.0//EN
CALSCALE:GREGORIAN
METHOD:PUBLISH
X-ORIGINAL-URL:https://northpikescreek.org
X-WR-CALDESC:Events for Friends of the North Pikes Creek Wetlands
REFRESH-INTERVAL;VALUE=DURATION:PT1H
X-Robots-Tag:noindex
X-PUBLISHED-TTL:PT1H
BEGIN:VTIMEZONE
TZID:America/Chicago
BEGIN:DAYLIGHT
TZOFFSETFROM:-0600
TZOFFSETTO:-0500
TZNAME:CDT
DTSTART:20230312T080000
END:DAYLIGHT
BEGIN:STANDARD
TZOFFSETFROM:-0500
TZOFFSETTO:-0600
TZNAME:CST
DTSTART:20231105T070000
END:STANDARD
BEGIN:DAYLIGHT
TZOFFSETFROM:-0600
TZOFFSETTO:-0500
TZNAME:CDT
DTSTART:20240310T080000
END:DAYLIGHT
BEGIN:STANDARD
TZOFFSETFROM:-0500
TZOFFSETTO:-0600
TZNAME:CST
DTSTART:20241103T070000
END:STANDARD
BEGIN:DAYLIGHT
TZOFFSETFROM:-0600
TZOFFSETTO:-0500
TZNAME:CDT
DTSTART:20250309T080000
END:DAYLIGHT
BEGIN:STANDARD
TZOFFSETFROM:-0500
TZOFFSETTO:-0600
TZNAME:CST
DTSTART:20251102T070000
END:STANDARD
END:VTIMEZONE
BEGIN:VEVENT
DTSTART;TZID=America/Chicago:20241010T173000
DTEND;TZID=America/Chicago:20241010T193000
DTSTAMP:20260424T083701
CREATED:20240821T212236Z
LAST-MODIFIED:20240821T214504Z
UID:8481-1728581400-1728588600@northpikescreek.org
SUMMARY:2024 Annual Meeting
DESCRIPTION:On Thursday\, October 10th\, the Friends of the North Pikes Creek Wetlands will hold its Annual Membership Meeting at the South Shore Brewery Taphouse at 5:30 pm. Pizza will be served\, and the 2024 Membership Meeting will be held. Following the meeting\, Wildlife Biologist for the Washburn Ranger District of the Chequamegon-Nicolet National Forest\, Brian Heeringa\, will update us on the ongoing sharp-tailed grouse reintroduction and habitat improvement project at the Northwest Sands management area. \nMembers are encouraged to attend and help guide the Friends’ work to protect the wetlands of North Pikes Creek\, and to make recommendations for 2025 activities and speakers. \nIf you are not a member\, or your membership has lapsed\, you may join at the meeting. \nShare this:\n				Share on Facebook (Opens in new window)\n				Facebook\n			\n				Share on LinkedIn (Opens in new window)\n				LinkedIn\n			\n				Print (Opens in new window)\n				Print\n			\n				Share on X (Opens in new window)\n				X
URL:https://northpikescreek.org/calendar-event/2024-annual-meeting/
LOCATION:South Shore Brewery Taphouse\, 532 W Bayfield St\, Washburn\, WI
ATTACH;FMTTYPE=image/jpeg:https://northpikescreek.org/wp-content/uploads/2024/08/sharptail6.jpg
ORGANIZER;CN="Friends of the North Pikes Creek Wetlands":MAILTO:info@northpikescreek.org
END:VEVENT
END:VCALENDAR