BEGIN:VCALENDAR
VERSION:2.0
PRODID:-//Friends of the North Pikes Creek Wetlands - ECPv6.15.20//NONSGML v1.0//EN
CALSCALE:GREGORIAN
METHOD:PUBLISH
X-WR-CALNAME:Friends of the North Pikes Creek Wetlands
X-ORIGINAL-URL:https://northpikescreek.org
X-WR-CALDESC:Events for Friends of the North Pikes Creek Wetlands
REFRESH-INTERVAL;VALUE=DURATION:PT1H
X-Robots-Tag:noindex
X-PUBLISHED-TTL:PT1H
BEGIN:VTIMEZONE
TZID:America/Chicago
BEGIN:DAYLIGHT
TZOFFSETFROM:-0600
TZOFFSETTO:-0500
TZNAME:CDT
DTSTART:20230312T080000
END:DAYLIGHT
BEGIN:STANDARD
TZOFFSETFROM:-0500
TZOFFSETTO:-0600
TZNAME:CST
DTSTART:20231105T070000
END:STANDARD
BEGIN:DAYLIGHT
TZOFFSETFROM:-0600
TZOFFSETTO:-0500
TZNAME:CDT
DTSTART:20240310T080000
END:DAYLIGHT
BEGIN:STANDARD
TZOFFSETFROM:-0500
TZOFFSETTO:-0600
TZNAME:CST
DTSTART:20241103T070000
END:STANDARD
BEGIN:DAYLIGHT
TZOFFSETFROM:-0600
TZOFFSETTO:-0500
TZNAME:CDT
DTSTART:20250309T080000
END:DAYLIGHT
BEGIN:STANDARD
TZOFFSETFROM:-0500
TZOFFSETTO:-0600
TZNAME:CST
DTSTART:20251102T070000
END:STANDARD
END:VTIMEZONE
BEGIN:VEVENT
DTSTART;TZID=America/Chicago:20240710T140000
DTEND;TZID=America/Chicago:20240710T150000
DTSTAMP:20260424T140904
CREATED:20240219T231154Z
LAST-MODIFIED:20240707T151651Z
UID:8340-1720620000-1720623600@northpikescreek.org
SUMMARY:Fishers - Cryptic Forest Carnivores
DESCRIPTION:On Wednesday\, July 10th\, Michael Joyce will present “Fishers – Cryptic Forest Carnivores” at 2 pm at the Beaver Hollow pavilion. Fishers are a member of the weasel family and native to the Western Great Lakes Region. In Minnesota\, the core population of fishers has declined by 50% over the last 20 years. During the same time\, fishers have expanded their range\, moving into southern Minnesota including the greater Twin Cities Metro area. Joyce will discuss a general history of fishers\, highlight factors contributing to their recent decline\, and describe ongoing research to better understand fisher ecology. \nMichael Joyce is a wildlife ecologist working at the Natural Resources Research Institute in Duluth. He has been studying wildlife in northern Minnesota over the last 12 years. His research focuses broadly on wildlife ecology\, conservation\, and management\, with an emphasis on understanding the effects of human activities on wildlife populations and communities. \nRegistration is recommended\, but not required. \nREGISTER\nShare this:\n				Share on Facebook (Opens in new window)\n				Facebook\n			\n				Share on LinkedIn (Opens in new window)\n				LinkedIn\n			\n				Print (Opens in new window)\n				Print\n			\n				Share on X (Opens in new window)\n				X
URL:https://northpikescreek.org/calendar-event/fishers/
LOCATION:Beaver Hollow\, 88850 Compton Rd\, Bayfield\, WI\, 54814
ATTACH;FMTTYPE=image/jpeg:https://northpikescreek.org/wp-content/uploads/2024/02/fisher-800x450-1.jpg
ORGANIZER;CN="Friends of the North Pikes Creek Wetlands":MAILTO:info@northpikescreek.org
END:VEVENT
BEGIN:VEVENT
DTSTART;TZID=America/Chicago:20240718T140000
DTEND;TZID=America/Chicago:20240718T150000
DTSTAMP:20260424T140904
CREATED:20240322T170213Z
LAST-MODIFIED:20240717T163933Z
UID:8356-1721311200-1721314800@northpikescreek.org
SUMMARY:Saving Cranes and the Places Where They Dance
DESCRIPTION:This presentation has been canceled and rescheduled for August 8th at 2 pm. \nShare this:\n				Share on Facebook (Opens in new window)\n				Facebook\n			\n				Share on LinkedIn (Opens in new window)\n				LinkedIn\n			\n				Print (Opens in new window)\n				Print\n			\n				Share on X (Opens in new window)\n				X
URL:https://northpikescreek.org/calendar-event/sandhill-cranes/
LOCATION:WI
CATEGORIES:Birds
ATTACH;FMTTYPE=image/jpeg:https://northpikescreek.org/wp-content/uploads/2024/03/Sandhill-crane-iS-820x400-1.jpg
ORGANIZER;CN="Friends of the North Pikes Creek Wetlands":MAILTO:info@northpikescreek.org
END:VEVENT
BEGIN:VEVENT
DTSTART;TZID=America/Chicago:20240724T140000
DTEND;TZID=America/Chicago:20240724T150000
DTSTAMP:20260424T140904
CREATED:20240219T231856Z
LAST-MODIFIED:20240414T124551Z
UID:8343-1721829600-1721833200@northpikescreek.org
SUMMARY:Northern Flying Squirrels - Forest Gliders
DESCRIPTION:On Wednesday\, July 24th\, Michael Joyce will present “Northern Flying Squirrels – Forest Gliders” at 2 pm at the Beaver Hollow pavilion. Climate change is altering the distribution of many animal species\, creating new zones of overlap between species that historically did not coexist. Flying squirrels are important members of our forest communities throughout the Western Great Lakes Region. In the much of eastern North America\, climate change is allowing southern flying squirrels to move north into areas that were previously solely occupied by northern flying squirrels\, leading in some places to increased competition and displacement of northern flying squirrels. In this presentation\, Joyce will discuss flying squirrel ecology and ongoing research on flying squirrel distribution\, nest site selection\, and parasites in Minnesota. \nMichael Joyce is a wildlife ecologist working at the Natural Resources Research Institute in Duluth. He has been studying wildlife in northern Minnesota over the last 12 years. His research focuses broadly on wildlife ecology\, conservation\, and management\, with an emphasis on understanding the effects of human activities on wildlife populations and communities. Join us on July 24th to hear about these fascinating gliders. \nRegistration is recommended\, but not required. \nREGISTER HERE\nShare this:\n				Share on Facebook (Opens in new window)\n				Facebook\n			\n				Share on LinkedIn (Opens in new window)\n				LinkedIn\n			\n				Print (Opens in new window)\n				Print\n			\n				Share on X (Opens in new window)\n				X
URL:https://northpikescreek.org/calendar-event/northern-flying-squirrels/
LOCATION:Beaver Hollow\, 88850 Compton Rd\, Bayfield\, WI\, 54814
ATTACH;FMTTYPE=image/jpeg:https://northpikescreek.org/wp-content/uploads/2024/02/flyingsquirrel.jpg
END:VEVENT
END:VCALENDAR