BEGIN:VCALENDAR
VERSION:2.0
PRODID:-//Friends of the North Pikes Creek Wetlands - ECPv6.15.20//NONSGML v1.0//EN
CALSCALE:GREGORIAN
METHOD:PUBLISH
X-WR-CALNAME:Friends of the North Pikes Creek Wetlands
X-ORIGINAL-URL:https://northpikescreek.org
X-WR-CALDESC:Events for Friends of the North Pikes Creek Wetlands
REFRESH-INTERVAL;VALUE=DURATION:PT1H
X-Robots-Tag:noindex
X-PUBLISHED-TTL:PT1H
BEGIN:VTIMEZONE
TZID:America/Chicago
BEGIN:DAYLIGHT
TZOFFSETFROM:-0600
TZOFFSETTO:-0500
TZNAME:CDT
DTSTART:20230312T080000
END:DAYLIGHT
BEGIN:STANDARD
TZOFFSETFROM:-0500
TZOFFSETTO:-0600
TZNAME:CST
DTSTART:20231105T070000
END:STANDARD
BEGIN:DAYLIGHT
TZOFFSETFROM:-0600
TZOFFSETTO:-0500
TZNAME:CDT
DTSTART:20240310T080000
END:DAYLIGHT
BEGIN:STANDARD
TZOFFSETFROM:-0500
TZOFFSETTO:-0600
TZNAME:CST
DTSTART:20241103T070000
END:STANDARD
BEGIN:DAYLIGHT
TZOFFSETFROM:-0600
TZOFFSETTO:-0500
TZNAME:CDT
DTSTART:20250309T080000
END:DAYLIGHT
BEGIN:STANDARD
TZOFFSETFROM:-0500
TZOFFSETTO:-0600
TZNAME:CST
DTSTART:20251102T070000
END:STANDARD
END:VTIMEZONE
BEGIN:VEVENT
DTSTART;TZID=America/Chicago:20240422T100000
DTEND;TZID=America/Chicago:20240422T113000
DTSTAMP:20260424T185813
CREATED:20231113T195137Z
LAST-MODIFIED:20240415T192750Z
UID:8293-1713780000-1713785400@northpikescreek.org
SUMMARY:Earth Day Road and Garden Cleanup
DESCRIPTION:The FNPCW adopted Compton Road in 2016 through the Town of Russell’s “Adopt a Road” program\, and volunteers have since cleaned up trash along the road each year on Earth Day\, April 22nd. This year our Earth Day cleanup event will also include raking the garden to get ready for the emergence of spring flowers\, and a few other spring cleanup chores. \nJoin us as we gather at 10 am in the Beaver Hollow parking lot. We’ll provide trash bags and fluorescent vests. Bring your own gloves and wear appropriate footwear. \nFor questions or additional information\, please email info@northpikescreek.org. \nShare this:\n				Share on Facebook (Opens in new window)\n				Facebook\n			\n				Share on LinkedIn (Opens in new window)\n				LinkedIn\n			\n				Print (Opens in new window)\n				Print\n			\n				Share on X (Opens in new window)\n				X
URL:https://northpikescreek.org/calendar-event/compton-road-trash-pickup-save-the-date/
LOCATION:Beaver Hollow\, 88850 Compton Rd\, Bayfield\, WI\, 54814
ATTACH;FMTTYPE=image/jpeg:https://northpikescreek.org/wp-content/uploads/2023/11/road-cleanup-17-2.jpg
ORGANIZER;CN="Friends of the North Pikes Creek Wetlands":MAILTO:info@northpikescreek.org
END:VEVENT
END:VCALENDAR