BEGIN:VCALENDAR
VERSION:2.0
PRODID:-//Friends of the North Pikes Creek Wetlands - ECPv6.15.20//NONSGML v1.0//EN
CALSCALE:GREGORIAN
METHOD:PUBLISH
X-WR-CALNAME:Friends of the North Pikes Creek Wetlands
X-ORIGINAL-URL:https://northpikescreek.org
X-WR-CALDESC:Events for Friends of the North Pikes Creek Wetlands
REFRESH-INTERVAL;VALUE=DURATION:PT1H
X-Robots-Tag:noindex
X-PUBLISHED-TTL:PT1H
BEGIN:VTIMEZONE
TZID:America/Chicago
BEGIN:DAYLIGHT
TZOFFSETFROM:-0600
TZOFFSETTO:-0500
TZNAME:CDT
DTSTART:20220313T080000
END:DAYLIGHT
BEGIN:STANDARD
TZOFFSETFROM:-0500
TZOFFSETTO:-0600
TZNAME:CST
DTSTART:20221106T070000
END:STANDARD
BEGIN:DAYLIGHT
TZOFFSETFROM:-0600
TZOFFSETTO:-0500
TZNAME:CDT
DTSTART:20230312T080000
END:DAYLIGHT
BEGIN:STANDARD
TZOFFSETFROM:-0500
TZOFFSETTO:-0600
TZNAME:CST
DTSTART:20231105T070000
END:STANDARD
BEGIN:DAYLIGHT
TZOFFSETFROM:-0600
TZOFFSETTO:-0500
TZNAME:CDT
DTSTART:20240310T080000
END:DAYLIGHT
BEGIN:STANDARD
TZOFFSETFROM:-0500
TZOFFSETTO:-0600
TZNAME:CST
DTSTART:20241103T070000
END:STANDARD
END:VTIMEZONE
BEGIN:VEVENT
DTSTART;TZID=America/Chicago:20230617T130000
DTEND;TZID=America/Chicago:20230617T140000
DTSTAMP:20260425T111910
CREATED:20230117T022315Z
LAST-MODIFIED:20230526T131235Z
UID:8086-1687006800-1687010400@northpikescreek.org
SUMMARY:Raptors of the Great Lakes Region
DESCRIPTION:Christian W. Cold\, retired wildlife educator for the Wisconsin Department of Natural Resources and falconer\, travels extensively throughout Wisconsin offering programs on wildlife and related topics of natural history to schools and adult audiences. This “Raptors of the Great Lakes Region” presentation will be held Saturday\, June 17th at 1 pm and will include the display and interpretation of live\, native raptors that Mr. Cold maintains for educational purposes. \nThe event is free. Pre-registration is recommended. \nREGISTER HERE\nShare this:\n				Share on Facebook (Opens in new window)\n				Facebook\n			\n				Share on LinkedIn (Opens in new window)\n				LinkedIn\n			\n				Print (Opens in new window)\n				Print\n			\n				Share on X (Opens in new window)\n				X
URL:https://northpikescreek.org/calendar-event/raptors-of-the-great-lakes-region/
LOCATION:Beaver Hollow\, 88850 Compton Rd\, Bayfield\, WI\, 54814
CATEGORIES:Raptors
ATTACH;FMTTYPE=image/jpeg:https://northpikescreek.org/wp-content/uploads/2023/01/chris-cold-summer.jpg
END:VEVENT
BEGIN:VEVENT
DTSTART;TZID=America/Chicago:20230628T140000
DTEND;TZID=America/Chicago:20230628T150000
DTSTAMP:20260425T111910
CREATED:20230116T225655Z
LAST-MODIFIED:20230117T031536Z
UID:8078-1687960800-1687964400@northpikescreek.org
SUMMARY:Bill Volkert\, The Great Blue Heron: Life History\, Research and Management\, June 28\, 2 pm
DESCRIPTION:Bill Volkert\, renowned naturalist and educator\, and one of the foremost authorities on the Great Blue Heron in the Midwest\, is coming back to Beaver Hollow this year to present a program titled\, “The Great Blue Heron; Its Life History\, Research and Management\,” on Wednesday\, June 28 at 2 pm\, at the Beaver Hollow pavilion. Volkert will introduce the entire family of herons and egrets and then focus on the great blue heron. He’ll share highlights of his work at Wisconsin’s largest rookery at Horicon Marsh. The event will repeat at 7 pm. \nThe event is free. Pre-registration is recommended. Register for either this 2 pm time or click for the 7 pm event registration. \nREGISTER HERE for 2 pm event\nShare this:\n				Share on Facebook (Opens in new window)\n				Facebook\n			\n				Share on LinkedIn (Opens in new window)\n				LinkedIn\n			\n				Print (Opens in new window)\n				Print\n			\n				Share on X (Opens in new window)\n				X
URL:https://northpikescreek.org/calendar-event/great-blue-heron-23-2-pm/
LOCATION:Beaver Hollow\, 88850 Compton Rd\, Bayfield\, WI\, 54814
CATEGORIES:Birds
ATTACH;FMTTYPE=image/jpeg:https://northpikescreek.org/wp-content/uploads/2023/01/03290175-800x450-1.jpg
END:VEVENT
BEGIN:VEVENT
DTSTART;TZID=America/Chicago:20230628T190000
DTEND;TZID=America/Chicago:20230628T200000
DTSTAMP:20260425T111910
CREATED:20230116T230331Z
LAST-MODIFIED:20230117T031456Z
UID:8081-1687978800-1687982400@northpikescreek.org
SUMMARY:Bill Volkert\, The Great Blue Heron: Life History\, Research and Management\, June 28\, 7 pm
DESCRIPTION:Bill Volkert\, renowned naturalist and educator\, and one of the foremost authorities on the Great Blue Heron in the Midwest\, is coming back to Beaver Hollow this year to present a program titled\, “The Great Blue Heron; Its Life History\, Research and Management\,” on Wednesday\, June 28 at 7 pm\, at the Beaver Hollow pavilion. Volkert will introduce the entire family of herons and egrets and then focus on the great blue heron. He’ll share highlights of his work at Wisconsin’s largest rookery at Horicon Marsh.  \nThe event is free. Pre-registration is recommended. Register for either this 7 pm time or click for the 2 pm event registration. \nREGISTER HERE for 7 pm event\nShare this:\n				Share on Facebook (Opens in new window)\n				Facebook\n			\n				Share on LinkedIn (Opens in new window)\n				LinkedIn\n			\n				Print (Opens in new window)\n				Print\n			\n				Share on X (Opens in new window)\n				X
URL:https://northpikescreek.org/calendar-event/great-blue-heron-23-7-pm/
LOCATION:Beaver Hollow\, 88850 Compton Rd\, Bayfield\, WI\, 54814
CATEGORIES:Birds
ATTACH;FMTTYPE=image/jpeg:https://northpikescreek.org/wp-content/uploads/2023/01/03290175-800x450-1.jpg
END:VEVENT
END:VCALENDAR