BEGIN:VCALENDAR
VERSION:2.0
PRODID:-//Friends of the North Pikes Creek Wetlands - ECPv6.15.20//NONSGML v1.0//EN
CALSCALE:GREGORIAN
METHOD:PUBLISH
X-WR-CALNAME:Friends of the North Pikes Creek Wetlands
X-ORIGINAL-URL:https://northpikescreek.org
X-WR-CALDESC:Events for Friends of the North Pikes Creek Wetlands
REFRESH-INTERVAL;VALUE=DURATION:PT1H
X-Robots-Tag:noindex
X-PUBLISHED-TTL:PT1H
BEGIN:VTIMEZONE
TZID:America/Chicago
BEGIN:DAYLIGHT
TZOFFSETFROM:-0600
TZOFFSETTO:-0500
TZNAME:CDT
DTSTART:20210314T080000
END:DAYLIGHT
BEGIN:STANDARD
TZOFFSETFROM:-0500
TZOFFSETTO:-0600
TZNAME:CST
DTSTART:20211107T070000
END:STANDARD
BEGIN:DAYLIGHT
TZOFFSETFROM:-0600
TZOFFSETTO:-0500
TZNAME:CDT
DTSTART:20220313T080000
END:DAYLIGHT
BEGIN:STANDARD
TZOFFSETFROM:-0500
TZOFFSETTO:-0600
TZNAME:CST
DTSTART:20221106T070000
END:STANDARD
BEGIN:DAYLIGHT
TZOFFSETFROM:-0600
TZOFFSETTO:-0500
TZNAME:CDT
DTSTART:20230312T080000
END:DAYLIGHT
BEGIN:STANDARD
TZOFFSETFROM:-0500
TZOFFSETTO:-0600
TZNAME:CST
DTSTART:20231105T070000
END:STANDARD
END:VTIMEZONE
BEGIN:VEVENT
DTSTART;TZID=America/Chicago:20220917T110000
DTEND;TZID=America/Chicago:20220917T120000
DTSTAMP:20260423T172144
CREATED:20220212T214258Z
LAST-MODIFIED:20220605T022446Z
UID:7740-1663412400-1663416000@northpikescreek.org
SUMMARY:Native Plants with Marisa Lee of MyWildWisconsin
DESCRIPTION:Register today and join Marisa Lee of MyWildWisconsin for a plant talk and tour at Beaver Hollow from 11:00 am – 12:00 pm on Saturday\, September 17. September is the month of yellow flowers- such as asters and goldenrods- as well as wonderful bees and other pollinators. We’ll discuss planting for pollinators\, and collecting seeds in the wild. Pre-registration is required and is limited to 12 attendees. \nREGISTER HERE \nShare this:\n				Share on Facebook (Opens in new window)\n				Facebook\n			\n				Share on LinkedIn (Opens in new window)\n				LinkedIn\n			\n				Print (Opens in new window)\n				Print\n			\n				Share on X (Opens in new window)\n				X
URL:https://northpikescreek.org/calendar-event/native-plants-sep-17/
LOCATION:Beaver Hollow\, 88850 Compton Rd\, Bayfield\, WI\, 54814
CATEGORIES:Plants
ATTACH;FMTTYPE=image/jpeg:https://northpikescreek.org/wp-content/uploads/2022/02/garden-800x450-1.jpg
END:VEVENT
BEGIN:VEVENT
DTSTART;TZID=America/Chicago:20220820T110000
DTEND;TZID=America/Chicago:20220820T120000
DTSTAMP:20260423T172144
CREATED:20220212T210334Z
LAST-MODIFIED:20220605T022609Z
UID:7737-1660993200-1660996800@northpikescreek.org
SUMMARY:Native Plants with Marisa Lee of MyWildWisconsin
DESCRIPTION:Register today to join Marisa Lee of MyWildWisconsin for a plant talk and tour at Beaver Hollow from 11:00 am – 12:00 pm on Saturday\, August 20. August is the month of colorful plants.  Cardinal flowers will be blooming in the pollinator garden\, and jewelweed\, persicaria\, bur marigold\, wild mint\, and blue vervain should all be blooming in the marsh. Pre-registration is required and is limited to 12 attendees. \nREGISTER HERE \nShare this:\n				Share on Facebook (Opens in new window)\n				Facebook\n			\n				Share on LinkedIn (Opens in new window)\n				LinkedIn\n			\n				Print (Opens in new window)\n				Print\n			\n				Share on X (Opens in new window)\n				X
URL:https://northpikescreek.org/calendar-event/native-plants-aug-20/
LOCATION:Beaver Hollow\, 88850 Compton Rd\, Bayfield\, WI\, 54814
CATEGORIES:Plants
ATTACH;FMTTYPE=image/jpeg:https://northpikescreek.org/wp-content/uploads/2022/02/jewelweed-800x450-1.jpg
END:VEVENT
BEGIN:VEVENT
DTSTART;TZID=America/Chicago:20220805T150000
DTEND;TZID=America/Chicago:20220805T160000
DTSTAMP:20260423T172144
CREATED:20220728T155257Z
LAST-MODIFIED:20220801T122926Z
UID:7985-1659711600-1659715200@northpikescreek.org
SUMMARY:Tracy Hames presents: Beaver Wetlands
DESCRIPTION:Friday\, August 5 at 3 pm\, join Tracy Hames\, Executive Director of the Wisconsin Wetlands Association\, for a presentation about wetlands\, how they can help solve watershed challenges related to flooding and water quality\, while providing great places to recreate. Learn how you can help wetlands in your community. \nShare this:\n				Share on Facebook (Opens in new window)\n				Facebook\n			\n				Share on LinkedIn (Opens in new window)\n				LinkedIn\n			\n				Print (Opens in new window)\n				Print\n			\n				Share on X (Opens in new window)\n				X
URL:https://northpikescreek.org/calendar-event/tracyhames-beaver/
LOCATION:Beaver Hollow\, 88850 Compton Rd\, Bayfield\, WI\, 54814
ATTACH;FMTTYPE=image/jpeg:https://northpikescreek.org/wp-content/uploads/2022/07/beaver-on-dam-1000x500-1.jpg
END:VEVENT
BEGIN:VEVENT
DTSTART;TZID=America/Chicago:20220728T200000
DTEND;TZID=America/Chicago:20220728T220000
DTSTAMP:20260423T172144
CREATED:20220608T014832Z
LAST-MODIFIED:20220625T170924Z
UID:7913-1659038400-1659045600@northpikescreek.org
SUMMARY:Brian Heeringa presents Bats of Wisconsin
DESCRIPTION:Join Brian Heeringa\, Wildlife Biologist for the Washburn Ranger District of the Chequamegon-Nicolet National Forest\, to learn about the bats of Wisconsin and which bats call North Pikes Creek Wetlands home. Discover the importance of bats and the role they play in ecosystems around the world. The summer months are a busy time for bats in Wisconsin and their presence on the landscape can be seen at dusk as they come out to forage for insects. We may see bats emerge from the bat house near the pavilion. Following the presentation – at approximately 9 pm – you have the option of taking a short hike on the nearby boardwalk to observe bats foraging in the area using bat detectors to listen in on their echolocation. Bring a small flashlight for the walk. \nREGISTER HERE\nShare this:\n				Share on Facebook (Opens in new window)\n				Facebook\n			\n				Share on LinkedIn (Opens in new window)\n				LinkedIn\n			\n				Print (Opens in new window)\n				Print\n			\n				Share on X (Opens in new window)\n				X
URL:https://northpikescreek.org/calendar-event/wisconsin-bats/
LOCATION:Beaver Hollow\, 88850 Compton Rd\, Bayfield\, WI\, 54814
ATTACH;FMTTYPE=image/jpeg:https://northpikescreek.org/wp-content/uploads/2022/06/24992324898_adb7e36b47_k-800x450-1.jpg
END:VEVENT
BEGIN:VEVENT
DTSTART;TZID=America/Chicago:20220721T190000
DTEND;TZID=America/Chicago:20220721T200000
DTSTAMP:20260423T172144
CREATED:20220618T153823Z
LAST-MODIFIED:20220618T154656Z
UID:7946-1658430000-1658433600@northpikescreek.org
SUMMARY:Bill Volkert\, The Great Blue Heron: Life History\, Research and Management\, 7 pm
DESCRIPTION:Bill Volkert\, renowned naturalist and educator\, and one of the foremost authorities on the Great Blue Heron in the Midwest\, will present\, “The Great Blue Heron; Its Life History\, Research and Management\,” on Thursday\, July 21st at 7pm\, at the Beaver Hollow pavilion. Volkert will introduce the entire family of herons and egrets and then focus on the great blue heron. He’ll share highlights of his work at Wisconsin’s largest rookery at Horicon Marsh. This event will also be presented at 2 pm on Thursday. \nThe event is free. Pre-registration is required. Register for either this 7 pm time or click for the 2 pm event registration. \nREGISTER HERE for 7 pm event\nShare this:\n				Share on Facebook (Opens in new window)\n				Facebook\n			\n				Share on LinkedIn (Opens in new window)\n				LinkedIn\n			\n				Print (Opens in new window)\n				Print\n			\n				Share on X (Opens in new window)\n				X
URL:https://northpikescreek.org/calendar-event/great-blue-heron-7pm/
LOCATION:Beaver Hollow\, 88850 Compton Rd\, Bayfield\, WI\, 54814
ATTACH;FMTTYPE=image/jpeg:https://northpikescreek.org/wp-content/uploads/2022/06/GBHeron-flying-500x450-1.jpg
END:VEVENT
BEGIN:VEVENT
DTSTART;TZID=America/Chicago:20220721T140000
DTEND;TZID=America/Chicago:20220721T150000
DTSTAMP:20260423T172144
CREATED:20220618T151915Z
LAST-MODIFIED:20220618T154017Z
UID:7935-1658412000-1658415600@northpikescreek.org
SUMMARY:Bill Volkert\, The Great Blue Heron: Life History\, Research and Management\, 2 pm
DESCRIPTION:Bill Volkert\, renowned naturalist and educator\, and one of the foremost authorities on the Great Blue Heron in the Midwest\, will present\, “The Great Blue Heron; Its Life History\, Research and Management\,” on Thursday\, July 21 at 2 pm\, at the Beaver Hollow pavilion. Volkert will introduce the entire family of herons and egrets and then focus on the great blue heron. He’ll share highlights of his work at Wisconsin’s largest rookery at Horicon Marsh. The event will repeat at 7 pm. \nThe event is free. Pre-registration is required. Register for either this 2 pm time or click for the 7 pm event registration. \nREGISTER HERE for 2 pm event\n\nShare this:\n				Share on Facebook (Opens in new window)\n				Facebook\n			\n				Share on LinkedIn (Opens in new window)\n				LinkedIn\n			\n				Print (Opens in new window)\n				Print\n			\n				Share on X (Opens in new window)\n				X
URL:https://northpikescreek.org/calendar-event/great-blue-heron-2pm/
LOCATION:Beaver Hollow\, 88850 Compton Rd\, Bayfield\, WI\, 54814
CATEGORIES:Birds
ATTACH;FMTTYPE=image/jpeg:https://northpikescreek.org/wp-content/uploads/2022/06/G_B_heron-800x450-1.jpg
END:VEVENT
BEGIN:VEVENT
DTSTART;TZID=America/Chicago:20220716T110000
DTEND;TZID=America/Chicago:20220716T120000
DTSTAMP:20260423T172144
CREATED:20220212T203951Z
LAST-MODIFIED:20220605T022653Z
UID:7726-1657969200-1657972800@northpikescreek.org
SUMMARY:Native Plants with Marisa Lee of MyWildWisconsin
DESCRIPTION:Register today to join Marisa Lee of MyWildWisconsin for a plant talk and tour at Beaver Hollow from 11:00 am – 12:00 pm on Saturday\, July 16. July is the month of dragonflies. The pollinator garden will be in full bloom\, and lots of white flowers will be blooming in the marsh\, including water plantain\, water hemlock\, and bugleweed. Manna grass will be in bloom. Pre-registration is required and is limited to 12 attendees. \nREGISTER HERE \nShare this:\n				Share on Facebook (Opens in new window)\n				Facebook\n			\n				Share on LinkedIn (Opens in new window)\n				LinkedIn\n			\n				Print (Opens in new window)\n				Print\n			\n				Share on X (Opens in new window)\n				X
URL:https://northpikescreek.org/calendar-event/native-plants-july-16/
LOCATION:Beaver Hollow\, 88850 Compton Rd\, Bayfield\, WI\, 54814
CATEGORIES:Plants
ATTACH;FMTTYPE=image/jpeg:https://northpikescreek.org/wp-content/uploads/2022/02/white-flower-800x450-1.jpg
END:VEVENT
BEGIN:VEVENT
DTSTART;TZID=America/Chicago:20220712T100000
DTEND;TZID=America/Chicago:20220712T110000
DTSTAMP:20260423T172144
CREATED:20220401T010213Z
LAST-MODIFIED:20220701T191151Z
UID:7821-1657620000-1657623600@northpikescreek.org
SUMMARY:Learn How to Become a Carnivore Tracker
DESCRIPTION:Jane Weber\, Timber Wolf Alliance Coordinator\, will explain how to become a certified carnivore tracker with the WI DNR. Discussion will involve how animals move\, looking for animal sign\, and practice identifying tracks and scat. Registration is required and is limited to 25 attendees. \nREGISTER HERE\nShare this:\n				Share on Facebook (Opens in new window)\n				Facebook\n			\n				Share on LinkedIn (Opens in new window)\n				LinkedIn\n			\n				Print (Opens in new window)\n				Print\n			\n				Share on X (Opens in new window)\n				X
URL:https://northpikescreek.org/calendar-event/wolf-tracking/
LOCATION:Beaver Hollow\, 88850 Compton Rd\, Bayfield\, WI\, 54814
ATTACH;FMTTYPE=image/jpeg:https://northpikescreek.org/wp-content/uploads/2022/03/Wolf-Track-Graphic.jpeg
END:VEVENT
BEGIN:VEVENT
DTSTART;TZID=America/Chicago:20220621T100000
DTEND;TZID=America/Chicago:20220621T110000
DTSTAMP:20260423T172144
CREATED:20220401T005619Z
LAST-MODIFIED:20220402T142226Z
UID:7816-1655805600-1655809200@northpikescreek.org
SUMMARY:Wolf Biology\, Wolf Pup Development\, and Wolf Communication
DESCRIPTION:Jane Weber\, Timber Wolf Alliance Coordinator\, will be sharing information about the biology and ecology of wolves\, with an emphasis on the stages of pup development and wolf communication. Be prepared for cute baby wolf videos!  Registration is required and is limited to 25 attendees. \nREGISTER HERE\nShare this:\n				Share on Facebook (Opens in new window)\n				Facebook\n			\n				Share on LinkedIn (Opens in new window)\n				LinkedIn\n			\n				Print (Opens in new window)\n				Print\n			\n				Share on X (Opens in new window)\n				X
URL:https://northpikescreek.org/calendar-event/wolf-biology/
LOCATION:Beaver Hollow\, 88850 Compton Rd\, Bayfield\, WI\, 54814
ATTACH;FMTTYPE=image/jpeg:https://northpikescreek.org/wp-content/uploads/2022/03/wolf-pup-in-log-800x450-1.jpg
END:VEVENT
BEGIN:VEVENT
DTSTART;TZID=America/Chicago:20220618T110000
DTEND;TZID=America/Chicago:20220618T120000
DTSTAMP:20260423T172144
CREATED:20220212T193822Z
LAST-MODIFIED:20220605T022739Z
UID:7716-1655550000-1655553600@northpikescreek.org
SUMMARY:Native Plants with Marisa Lee of MyWildWisconsin
DESCRIPTION:Register today to join Marisa Lee of MyWildWisconsin for a plant talk and tour at Beaver Hollow from 11:00 am – 12:00 pm on Saturday\, June 18. June is the month of the strawberry moon. Wild strawberries should be ripening\, blue flag iris blooming in  the wetlands\, and a variety of pretty flowers will be blooming along the boardwalk. Pre-registration is required and is limited to 12 attendees. \nREGISTER HERE \nShare this:\n				Share on Facebook (Opens in new window)\n				Facebook\n			\n				Share on LinkedIn (Opens in new window)\n				LinkedIn\n			\n				Print (Opens in new window)\n				Print\n			\n				Share on X (Opens in new window)\n				X
URL:https://northpikescreek.org/calendar-event/native-plants-june-18/
LOCATION:Beaver Hollow\, 88850 Compton Rd\, Bayfield\, WI\, 54814
CATEGORIES:Plants
ATTACH;FMTTYPE=image/jpeg:https://northpikescreek.org/wp-content/uploads/2022/02/iris-800x450-1.jpg
END:VEVENT
BEGIN:VEVENT
DTSTART;TZID=America/Chicago:20220614T100000
DTEND;TZID=America/Chicago:20220614T110000
DTSTAMP:20260423T172144
CREATED:20220331T140026Z
LAST-MODIFIED:20220402T142304Z
UID:7799-1655200800-1655204400@northpikescreek.org
SUMMARY:Biology\, Ecology\, and Population Dynamics of Local Ma’iingan (Wolf) Packs
DESCRIPTION:Join us as Andy Edwards\, Wildlife Biologist for the Red Cliff Band\, will discuss the research and monitoring work being conducted to better understand the history\, population dynamics\, and movements of the two resident Red Cliff Reservation wolf packs occupying the tip of the Bayfield Peninsula.  A brief overview of Red Cliff’s other predator monitoring work will also be provided. Registration is required and is limited to 25 attendees. \nREGISTER HERE \nShare this:\n				Share on Facebook (Opens in new window)\n				Facebook\n			\n				Share on LinkedIn (Opens in new window)\n				LinkedIn\n			\n				Print (Opens in new window)\n				Print\n			\n				Share on X (Opens in new window)\n				X
URL:https://northpikescreek.org/calendar-event/local-wolf-packs/
LOCATION:Beaver Hollow\, 88850 Compton Rd\, Bayfield\, WI\, 54814
ATTACH;FMTTYPE=image/jpeg:https://northpikescreek.org/wp-content/uploads/2022/03/wolves-800x450-1.jpg
END:VEVENT
BEGIN:VEVENT
DTSTART;TZID=America/Chicago:20220607T100000
DTEND;TZID=America/Chicago:20220607T110000
DTSTAMP:20260423T172144
CREATED:20220401T004400Z
LAST-MODIFIED:20220402T142342Z
UID:7808-1654596000-1654599600@northpikescreek.org
SUMMARY:Canids of Wisconsin
DESCRIPTION:This presentation by Timber Wolf Alliance Coordinator\, Jane Weber\, will cover the biology and ecology of foxes\, coyotes\, and wolves as an important part of a healthy ecosystem.  Skulls\, skins\, scat replicas and track casts will be available for comparison. Registration is required and is limited to 25 attendees. \nREGISTER HERE\nShare this:\n				Share on Facebook (Opens in new window)\n				Facebook\n			\n				Share on LinkedIn (Opens in new window)\n				LinkedIn\n			\n				Print (Opens in new window)\n				Print\n			\n				Share on X (Opens in new window)\n				X
URL:https://northpikescreek.org/calendar-event/wisconsin-canids/
LOCATION:Beaver Hollow\, 88850 Compton Rd\, Bayfield\, WI\, 54814
ATTACH;FMTTYPE=image/jpeg:https://northpikescreek.org/wp-content/uploads/2022/03/wolf-summer-800x450-1.jpg
END:VEVENT
BEGIN:VEVENT
DTSTART;TZID=America/Chicago:20220521T110000
DTEND;TZID=America/Chicago:20220521T120000
DTSTAMP:20260423T172144
CREATED:20220127T171931Z
LAST-MODIFIED:20220226T140534Z
UID:7642-1653130800-1653134400@northpikescreek.org
SUMMARY:Native Plants with Marisa Lee of MyWildWisconsin
DESCRIPTION:Register today to join Marisa Lee of MyWildWisconsin for a plant talk and tour at Beaver Hollow from 11:00 am – 12:00 pm on Saturday\, May 21st. See spring ephemerals in the woods\, marsh marigolds along the boardwalk\, and spring plants emerging in the pollinator garden. Registration is required and is limited to 20 attendees. \nREGISTER HERE \nShare this:\n				Share on Facebook (Opens in new window)\n				Facebook\n			\n				Share on LinkedIn (Opens in new window)\n				LinkedIn\n			\n				Print (Opens in new window)\n				Print\n			\n				Share on X (Opens in new window)\n				X
URL:https://northpikescreek.org/calendar-event/native-plants-may-21/
LOCATION:Beaver Hollow\, 88850 Compton Rd\, Bayfield\, WI\, 54814
CATEGORIES:Plants
ATTACH;FMTTYPE=image/jpeg:https://northpikescreek.org/wp-content/uploads/2022/01/marigold-800x450-1.jpg
END:VEVENT
BEGIN:VEVENT
DTSTART;TZID=America/Chicago:20220514T090000
DTEND;TZID=America/Chicago:20220514T130000
DTSTAMP:20260423T172144
CREATED:20220428T203154Z
LAST-MODIFIED:20220428T203307Z
UID:7888-1652518800-1652533200@northpikescreek.org
SUMMARY:Youth Group visit May 14th
DESCRIPTION:Denise and Stacy will bring a youth group to Beaver Hollow for outdoor recreation/education. \nShare this:\n				Share on Facebook (Opens in new window)\n				Facebook\n			\n				Share on LinkedIn (Opens in new window)\n				LinkedIn\n			\n				Print (Opens in new window)\n				Print\n			\n				Share on X (Opens in new window)\n				X
URL:https://northpikescreek.org/calendar-event/youth-group-visit/
LOCATION:Beaver Hollow\, 88850 Compton Rd\, Bayfield\, WI\, 54814
ATTACH;FMTTYPE=image/jpeg:https://northpikescreek.org/wp-content/uploads/2022/04/kids-walking.jpg
END:VEVENT
BEGIN:VEVENT
DTSTART;TZID=America/Chicago:20220512T130000
DTEND;TZID=America/Chicago:20220512T150000
DTSTAMP:20260423T172144
CREATED:20220407T144540Z
LAST-MODIFIED:20220407T144540Z
UID:7836-1652360400-1652367600@northpikescreek.org
SUMMARY:Bayfield School Visit May 12
DESCRIPTION:Bayfield 4th grade students will visit Beaver hollow the afternoon of May 12th for birding\, exploration\, learning\, and fun. \nShare this:\n				Share on Facebook (Opens in new window)\n				Facebook\n			\n				Share on LinkedIn (Opens in new window)\n				LinkedIn\n			\n				Print (Opens in new window)\n				Print\n			\n				Share on X (Opens in new window)\n				X
URL:https://northpikescreek.org/calendar-event/school-visit-may-12/
LOCATION:WI
ATTACH;FMTTYPE=image/jpeg:https://northpikescreek.org/wp-content/uploads/2022/04/iStock-531418354-800x450-1.jpg
END:VEVENT
BEGIN:VEVENT
DTSTART;TZID=America/Chicago:20220304T130000
DTEND;TZID=America/Chicago:20220304T150000
DTSTAMP:20260423T172144
CREATED:20220127T165054Z
LAST-MODIFIED:20220222T000846Z
UID:7637-1646398800-1646406000@northpikescreek.org
SUMMARY:Snowshoe School Class
DESCRIPTION:The Bayfield School 4th graders will snowshoe at Beaver Hollow \nShare this:\n				Share on Facebook (Opens in new window)\n				Facebook\n			\n				Share on LinkedIn (Opens in new window)\n				LinkedIn\n			\n				Print (Opens in new window)\n				Print\n			\n				Share on X (Opens in new window)\n				X
URL:https://northpikescreek.org/calendar-event/snowshoe-school-class/
LOCATION:Beaver Hollow\, 88850 Compton Rd\, Bayfield\, WI\, 54814
CATEGORIES:Student
ATTACH;FMTTYPE=image/jpeg:https://northpikescreek.org/wp-content/uploads/2020/06/snowshoe-2-800.jpg
END:VEVENT
END:VCALENDAR