BEGIN:VCALENDAR
VERSION:2.0
PRODID:-//Friends of the North Pikes Creek Wetlands - ECPv6.15.20//NONSGML v1.0//EN
CALSCALE:GREGORIAN
METHOD:PUBLISH
X-ORIGINAL-URL:https://northpikescreek.org
X-WR-CALDESC:Events for Friends of the North Pikes Creek Wetlands
REFRESH-INTERVAL;VALUE=DURATION:PT1H
X-Robots-Tag:noindex
X-PUBLISHED-TTL:PT1H
BEGIN:VTIMEZONE
TZID:America/Chicago
BEGIN:DAYLIGHT
TZOFFSETFROM:-0600
TZOFFSETTO:-0500
TZNAME:CDT
DTSTART:20230312T080000
END:DAYLIGHT
BEGIN:STANDARD
TZOFFSETFROM:-0500
TZOFFSETTO:-0600
TZNAME:CST
DTSTART:20231105T070000
END:STANDARD
BEGIN:DAYLIGHT
TZOFFSETFROM:-0600
TZOFFSETTO:-0500
TZNAME:CDT
DTSTART:20240310T080000
END:DAYLIGHT
BEGIN:STANDARD
TZOFFSETFROM:-0500
TZOFFSETTO:-0600
TZNAME:CST
DTSTART:20241103T070000
END:STANDARD
BEGIN:DAYLIGHT
TZOFFSETFROM:-0600
TZOFFSETTO:-0500
TZNAME:CDT
DTSTART:20250309T080000
END:DAYLIGHT
BEGIN:STANDARD
TZOFFSETFROM:-0500
TZOFFSETTO:-0600
TZNAME:CST
DTSTART:20251102T070000
END:STANDARD
END:VTIMEZONE
BEGIN:VEVENT
DTSTART;TZID=America/Chicago:20240828T110000
DTEND;TZID=America/Chicago:20240828T150000
DTSTAMP:20260423T065642
CREATED:20240712T202717Z
LAST-MODIFIED:20240712T210453Z
UID:8443-1724842800-1724857200@northpikescreek.org
SUMMARY:2024 Midwest Beaver Summit - Virtual Event
DESCRIPTION:The FNPCW is a co-sponsor for the second annual\, virtual Midwest Beaver Summit. Attendees will learn about the ecological value of keeping beavers on our Midwestern landscapes and how to coexist using nonlethal beaver management tools. The Summit will cover a variety of topics presented by six excellent speakers. \nRegistration is free. Register HERE for your free ticket. The Zoom login information will be sent to those who register before the Summit. \nShare this:\n				Share on Facebook (Opens in new window)\n				Facebook\n			\n				Share on LinkedIn (Opens in new window)\n				LinkedIn\n			\n				Print (Opens in new window)\n				Print\n			\n				Share on X (Opens in new window)\n				X
URL:https://northpikescreek.org/calendar-event/2024-midwest-beaver-summit/
LOCATION:Virtual over Zoom
CATEGORIES:Wetlands
ATTACH;FMTTYPE=image/png:https://northpikescreek.org/wp-content/uploads/2024/07/Map-Image-2024-Midwest-Beaver-Summit-7.3.png
END:VEVENT
BEGIN:VEVENT
DTSTART;TZID=America/Chicago:20240814T140000
DTEND;TZID=America/Chicago:20240814T150000
DTSTAMP:20260423T065642
CREATED:20240210T194946Z
LAST-MODIFIED:20240414T125739Z
UID:8323-1723644000-1723647600@northpikescreek.org
SUMMARY:A Year at a Beaver Pond with Al Cornell
DESCRIPTION:You won’t want to miss this Wednesday\, August 14th presentation with astute observations and superb photography by Al Cornell. Cornell\, recently retired from the DNR\, lives in the driftless area of Wisconsin. One day he noted a newly created beaver pond near his home. He set up a blind at the edge of the pond on a bright spring day to photograph the eagle he had seen hunting the area. He relates that this photo session grew into an obsession\, and he subsequently spent a year visiting the blind and documenting a year in the life of the beaver pond. During that time\, Cornell observed 61 species of birds and nine species of mammals\, as well as numerous fish\, insects\, and toads that were drawn to that small beaver pond. He went on to publish “A Year at a Beaver Pond: Observations from One Little Dynamic Ecosystem\,” a book with exquisite photography and insightful text. \nRegister today for this Wednesday\, August 14th\,  opportunity to hear Al Cornell speak about his experience and to see his delightful photos documenting a year at a beaver pond! Registration is recommended but not required. \nREGISTER HERE\nShare this:\n				Share on Facebook (Opens in new window)\n				Facebook\n			\n				Share on LinkedIn (Opens in new window)\n				LinkedIn\n			\n				Print (Opens in new window)\n				Print\n			\n				Share on X (Opens in new window)\n				X
URL:https://northpikescreek.org/calendar-event/al-cornell/
LOCATION:WI
CATEGORIES:Mammals,Wetlands
ATTACH;FMTTYPE=image/jpeg:https://northpikescreek.org/wp-content/uploads/2024/02/beaver-800x500-1.jpg
ORGANIZER;CN="Friends of the North Pikes Creek Wetlands":MAILTO:info@northpikescreek.org
END:VEVENT
END:VCALENDAR