BEGIN:VCALENDAR
VERSION:2.0
PRODID:-//Friends of the North Pikes Creek Wetlands - ECPv6.15.20//NONSGML v1.0//EN
CALSCALE:GREGORIAN
METHOD:PUBLISH
X-WR-CALNAME:Friends of the North Pikes Creek Wetlands
X-ORIGINAL-URL:https://northpikescreek.org
X-WR-CALDESC:Events for Friends of the North Pikes Creek Wetlands
REFRESH-INTERVAL;VALUE=DURATION:PT1H
X-Robots-Tag:noindex
X-PUBLISHED-TTL:PT1H
BEGIN:VTIMEZONE
TZID:America/Chicago
BEGIN:DAYLIGHT
TZOFFSETFROM:-0600
TZOFFSETTO:-0500
TZNAME:CDT
DTSTART:20230312T080000
END:DAYLIGHT
BEGIN:STANDARD
TZOFFSETFROM:-0500
TZOFFSETTO:-0600
TZNAME:CST
DTSTART:20231105T070000
END:STANDARD
BEGIN:DAYLIGHT
TZOFFSETFROM:-0600
TZOFFSETTO:-0500
TZNAME:CDT
DTSTART:20240310T080000
END:DAYLIGHT
BEGIN:STANDARD
TZOFFSETFROM:-0500
TZOFFSETTO:-0600
TZNAME:CST
DTSTART:20241103T070000
END:STANDARD
BEGIN:DAYLIGHT
TZOFFSETFROM:-0600
TZOFFSETTO:-0500
TZNAME:CDT
DTSTART:20250309T080000
END:DAYLIGHT
BEGIN:STANDARD
TZOFFSETFROM:-0500
TZOFFSETTO:-0600
TZNAME:CST
DTSTART:20251102T070000
END:STANDARD
BEGIN:DAYLIGHT
TZOFFSETFROM:-0600
TZOFFSETTO:-0500
TZNAME:CDT
DTSTART:20260308T080000
END:DAYLIGHT
BEGIN:STANDARD
TZOFFSETFROM:-0500
TZOFFSETTO:-0600
TZNAME:CST
DTSTART:20261101T070000
END:STANDARD
END:VTIMEZONE
BEGIN:VEVENT
DTSTART;TZID=America/Chicago:20250509T090000
DTEND;TZID=America/Chicago:20250510T170000
DTSTAMP:20260423T080914
CREATED:20241217T182025Z
LAST-MODIFIED:20250409T183907Z
UID:8532-1746781200-1746896400@northpikescreek.org
SUMMARY:Tree Planting Event 2025
DESCRIPTION:Sign up to help plant trees at Beaver Hollow during a two day tree planting event held Friday May 9th and Saturday May 10th \nWe’re underplanting trees in the black ash forest at Beaver Hollow on Friday\, May 9\, and Saturday\, May 10\, beginning at 9 am each day\, and we’d like you to volunteer to help! We are planting swamp white oak\, bur oak\, and hickory plugs\, and bare root 4-5′ disease resistant St. Croix American elm tree whips this year. \nVolunteers should dress for the weather and bring work or garden gloves. Waterproof footwear will likely be needed this time of year. The Friends will provide all planting equipment as well as lunch and drinks. We’ll start at 9 am each morning\, and break for lunch in the pavilion at noon. We appreciate your advance registration for the event\, which enables us to contact you for your sandwich preference. \nSee the Google map below for directions to Beaver Hollow. \nEmail with questions\, info@northpikescreek.org. \n\nREGISTER HERE\nShare this:\n				Share on Facebook (Opens in new window)\n				Facebook\n			\n				Share on LinkedIn (Opens in new window)\n				LinkedIn\n			\n				Print (Opens in new window)\n				Print\n			\n				Share on X (Opens in new window)\n				X
URL:https://northpikescreek.org/calendar-event/tree-planting-2025/
LOCATION:Beaver Hollow\, 88850 Compton Rd\, Bayfield\, WI\, 54814
CATEGORIES:Volunteer Opportunity
ATTACH;FMTTYPE=image/jpeg:https://northpikescreek.org/wp-content/uploads/2024/12/Montage2.jpg
ORGANIZER;CN="Friends of the North Pikes Creek Wetlands":MAILTO:info@northpikescreek.org
END:VEVENT
BEGIN:VEVENT
DTSTART;TZID=America/Chicago:20250502T100000
DTEND;TZID=America/Chicago:20250502T120000
DTSTAMP:20260423T080914
CREATED:20241217T180751Z
LAST-MODIFIED:20250429T201947Z
UID:8529-1746180000-1746187200@northpikescreek.org
SUMMARY:May 2nd Road and Garden Cleanup 2025
DESCRIPTION:EVENT RESCHEDULED FOR FRIDAY MAY 2nd AT 10 AM DUE TO WEATHER CONDITIONS.\nAn unexpected early morning snow will delay our road cleanup one more time – from Earth Day to May 2nd. \nThe FNPCW adopted Compton Road in 2016 through the Town of Russell’s “Adopt a Road” program\, and volunteers have since cleaned up trash along the road each year on Earth Day – weather permitting. This year our Earth Day cleanup event will also include an optional opportunity to rake the garden to get ready for the emergence of spring flowers\, and a few other spring cleanup chores. \nJoin us as we gather at 10 am in the Beaver Hollow parking lot on Friday\, May 2nd at 10 am. \nWe’ll provide trash bags and fluorescent vests. Bring your own gloves and wear appropriate footwear. \nFor questions or additional information\, please email info@northpikescreek.org. \nShare this:\n				Share on Facebook (Opens in new window)\n				Facebook\n			\n				Share on LinkedIn (Opens in new window)\n				LinkedIn\n			\n				Print (Opens in new window)\n				Print\n			\n				Share on X (Opens in new window)\n				X
URL:https://northpikescreek.org/calendar-event/earth-day-road-cleanup-2025/
LOCATION:Beaver Hollow\, 88850 Compton Rd\, Bayfield\, WI\, 54814
CATEGORIES:Volunteer Opportunity
ATTACH;FMTTYPE=image/jpeg:https://northpikescreek.org/wp-content/uploads/2024/12/P1012585-24.jpg
ORGANIZER;CN="Friends of the North Pikes Creek Wetlands":MAILTO:info@northpikescreek.org
END:VEVENT
BEGIN:VEVENT
DTSTART;TZID=America/Chicago:20240510T090000
DTEND;TZID=America/Chicago:20240512T170000
DTSTAMP:20260423T080914
CREATED:20231110T203008Z
LAST-MODIFIED:20240324T160040Z
UID:8289-1715331600-1715533200@northpikescreek.org
SUMMARY:Tree Planting Weekend
DESCRIPTION:Sign up and help plant trees at Beaver Hollow during a three day tree planting event held Friday May 10th through Sunday May 12th \nWe’re underplanting trees in the black ash forest at Beaver Hollow on Friday\, May 10\, through Sunday\, May 12\, beginning at 9 am each day\, and we’d like you to volunteer to help! We are planting swamp white oak\, bur oak\, and hackberry plugs\, and bare root 4-5′ disease resistant American elm trees this year. \nVolunteers should dress for the weather and bring work or garden gloves. Waterproof footwear will likely be needed this time of year. The Friends will provide all planting equipment as well as lunch and drinks. We’ll start at 9 am each morning\, and break for lunch in the pavilion at noon. During the break\, Trout Unlimited’s Great Lakes Program staff will talk about their stream protection efforts in the upper Great Lakes area\, and they’ll bring fly rods for you to practice your “grass” casting technique!  \nSunday afternoon\, around 4 pm\, we’ll end the weekend planting effort with a cookout at Beaver Hollow for all weekend volunteers. FNPCW\, SRWA\, and TU Great Lakes will provide a feast of brats and beer. \nSee the Google map below for directions to Beaver Hollow. \nEmail with questions\, info@northpikescreek.org. \nREGISTER HERE\nShare this:\n				Share on Facebook (Opens in new window)\n				Facebook\n			\n				Share on LinkedIn (Opens in new window)\n				LinkedIn\n			\n				Print (Opens in new window)\n				Print\n			\n				Share on X (Opens in new window)\n				X
URL:https://northpikescreek.org/calendar-event/tree-planting-weekend-2/
LOCATION:Beaver Hollow\, 88850 Compton Rd\, Bayfield\, WI\, 54814
CATEGORIES:Volunteer Opportunity
ATTACH;FMTTYPE=image/jpeg:https://northpikescreek.org/wp-content/uploads/2023/11/P1001516-newsletter.jpg
END:VEVENT
END:VCALENDAR