BEGIN:VCALENDAR
VERSION:2.0
PRODID:-//Friends of the North Pikes Creek Wetlands - ECPv6.15.20//NONSGML v1.0//EN
CALSCALE:GREGORIAN
METHOD:PUBLISH
X-WR-CALNAME:Friends of the North Pikes Creek Wetlands
X-ORIGINAL-URL:https://northpikescreek.org
X-WR-CALDESC:Events for Friends of the North Pikes Creek Wetlands
REFRESH-INTERVAL;VALUE=DURATION:PT1H
X-Robots-Tag:noindex
X-PUBLISHED-TTL:PT1H
BEGIN:VTIMEZONE
TZID:America/Chicago
BEGIN:DAYLIGHT
TZOFFSETFROM:-0600
TZOFFSETTO:-0500
TZNAME:CDT
DTSTART:20220313T080000
END:DAYLIGHT
BEGIN:STANDARD
TZOFFSETFROM:-0500
TZOFFSETTO:-0600
TZNAME:CST
DTSTART:20221106T070000
END:STANDARD
BEGIN:DAYLIGHT
TZOFFSETFROM:-0600
TZOFFSETTO:-0500
TZNAME:CDT
DTSTART:20230312T080000
END:DAYLIGHT
BEGIN:STANDARD
TZOFFSETFROM:-0500
TZOFFSETTO:-0600
TZNAME:CST
DTSTART:20231105T070000
END:STANDARD
BEGIN:DAYLIGHT
TZOFFSETFROM:-0600
TZOFFSETTO:-0500
TZNAME:CDT
DTSTART:20240310T080000
END:DAYLIGHT
BEGIN:STANDARD
TZOFFSETFROM:-0500
TZOFFSETTO:-0600
TZNAME:CST
DTSTART:20241103T070000
END:STANDARD
END:VTIMEZONE
BEGIN:VEVENT
DTSTART;TZID=America/Chicago:20230803T200000
DTEND;TZID=America/Chicago:20230803T220000
DTSTAMP:20260423T110936
CREATED:20230309T175930Z
LAST-MODIFIED:20230731T162337Z
UID:8139-1691092800-1691100000@northpikescreek.org
SUMMARY:Brian Heeringa presents Bats of Wisconsin
DESCRIPTION:Join Brian Heeringa\, Wildlife Biologist for the Washburn Ranger District of the Chequamegon-Nicolet National Forest\, on Thursday\, August 3rd to learn about the bats of Wisconsin\, and which bats call North Pikes Creek Wetlands home. Discover the importance of bats and the role they play in ecosystems around the world. The summer months are a busy time for bats in Wisconsin and their presence on the landscape can be seen at dusk as they come out to forage for insects. We may see bats emerge from the bat house near the pavilion. Following the presentation – at approximately 9 pm – you have the option of taking a short hike on the nearby boardwalk to observe bats foraging in the area using bat detectors to listen in on their echolocation. Bring a small flashlight for the walk. \nThe event is free. Pre-registration is recommended but not required. \nREGISTER HERE\nShare this:\n				Share on Facebook (Opens in new window)\n				Facebook\n			\n				Share on LinkedIn (Opens in new window)\n				LinkedIn\n			\n				Print (Opens in new window)\n				Print\n			\n				Share on X (Opens in new window)\n				X
URL:https://northpikescreek.org/calendar-event/brian-heeringa-presents-bats-of-wisconsin/
LOCATION:Beaver Hollow\, 88850 Compton Rd\, Bayfield\, WI\, 54814
CATEGORIES:Bats
ATTACH;FMTTYPE=image/jpeg:https://northpikescreek.org/wp-content/uploads/2022/06/24992324898_adb7e36b47_k-800x450-1.jpg
END:VEVENT
END:VCALENDAR