BEGIN:VCALENDAR
VERSION:2.0
PRODID:-//Friends of the North Pikes Creek Wetlands - ECPv6.15.20//NONSGML v1.0//EN
CALSCALE:GREGORIAN
METHOD:PUBLISH
X-ORIGINAL-URL:https://northpikescreek.org
X-WR-CALDESC:Events for Friends of the North Pikes Creek Wetlands
REFRESH-INTERVAL;VALUE=DURATION:PT1H
X-Robots-Tag:noindex
X-PUBLISHED-TTL:PT1H
BEGIN:VTIMEZONE
TZID:America/Chicago
BEGIN:DAYLIGHT
TZOFFSETFROM:-0600
TZOFFSETTO:-0500
TZNAME:CDT
DTSTART:20240310T080000
END:DAYLIGHT
BEGIN:STANDARD
TZOFFSETFROM:-0500
TZOFFSETTO:-0600
TZNAME:CST
DTSTART:20241103T070000
END:STANDARD
BEGIN:DAYLIGHT
TZOFFSETFROM:-0600
TZOFFSETTO:-0500
TZNAME:CDT
DTSTART:20250309T080000
END:DAYLIGHT
BEGIN:STANDARD
TZOFFSETFROM:-0500
TZOFFSETTO:-0600
TZNAME:CST
DTSTART:20251102T070000
END:STANDARD
BEGIN:DAYLIGHT
TZOFFSETFROM:-0600
TZOFFSETTO:-0500
TZNAME:CDT
DTSTART:20260308T080000
END:DAYLIGHT
BEGIN:STANDARD
TZOFFSETFROM:-0500
TZOFFSETTO:-0600
TZNAME:CST
DTSTART:20261101T070000
END:STANDARD
END:VTIMEZONE
BEGIN:VEVENT
DTSTART;TZID=America/Chicago:20250710T100000
DTEND;TZID=America/Chicago:20250710T110000
DTSTAMP:20260423T192423
CREATED:20250506T194211Z
LAST-MODIFIED:20250714T181027Z
UID:8665-1752141600-1752145200@northpikescreek.org
SUMMARY:Beavers: Ecosystem Services and Scientific Management
DESCRIPTION:Join us on Thursday\, July 10th at Beaver Hollow\, as Bob Boucher discusses beavers’ critical role as structural engineers who benefit watersheds\, and the need to manage their population accurately using the best available science. By focusing on watersheds\, wildlife managers can ensure that environmental conservation efforts are comprehensive and cohesive\, addressing the needs of various species within the same ecological corridor. \nBob Boucher serves as the President of the Superior Bio-Conservancy and  as an advisor to the Beaver Institute. He also founded Milwaukee Riverkeepers and served as Executive Director of Wisconsin’s oldest land trust\, The Cedar Lakes Conservation Foundation. He has an MS in Water Resource Management from UW Madison with an emphasis in ecosystem management of watersheds. His interests include protecting and restoring keystone species in ecosystems and bioregional landscape linkages for protection on a global scale. Bob became a “Beaver Believer” when he realized the role this keystone species plays in the health of our river’s hydrology and their significance to biodiversity. \nWatch a similar presentation Bob made at the Midwest Beaver Summit: https://www.youtube.com/watch?v=T5Q4BJdOBK0. \nRegistration is recommended\, but not required. \nREGISTER\nShare this:\n				Share on Facebook (Opens in new window)\n				Facebook\n			\n				Share on LinkedIn (Opens in new window)\n				LinkedIn\n			\n				Print (Opens in new window)\n				Print\n			\n				Share on X (Opens in new window)\n				X
URL:https://northpikescreek.org/calendar-event/beavers-ecosystem-services/
LOCATION:Beaver Hollow\, 88850 Compton Rd\, Bayfield\, WI\, 54814
ATTACH;FMTTYPE=image/png:https://northpikescreek.org/wp-content/uploads/2025/05/Bob.png
ORGANIZER;CN="Friends of the North Pikes Creek Wetlands":MAILTO:info@northpikescreek.org
END:VEVENT
END:VCALENDAR