BEGIN:VCALENDAR
VERSION:2.0
PRODID:-//Friends of the North Pikes Creek Wetlands - ECPv6.15.20//NONSGML v1.0//EN
CALSCALE:GREGORIAN
METHOD:PUBLISH
X-WR-CALNAME:Friends of the North Pikes Creek Wetlands
X-ORIGINAL-URL:https://northpikescreek.org
X-WR-CALDESC:Events for Friends of the North Pikes Creek Wetlands
REFRESH-INTERVAL;VALUE=DURATION:PT1H
X-Robots-Tag:noindex
X-PUBLISHED-TTL:PT1H
BEGIN:VTIMEZONE
TZID:America/Chicago
BEGIN:DAYLIGHT
TZOFFSETFROM:-0600
TZOFFSETTO:-0500
TZNAME:CDT
DTSTART:20220313T080000
END:DAYLIGHT
BEGIN:STANDARD
TZOFFSETFROM:-0500
TZOFFSETTO:-0600
TZNAME:CST
DTSTART:20221106T070000
END:STANDARD
BEGIN:DAYLIGHT
TZOFFSETFROM:-0600
TZOFFSETTO:-0500
TZNAME:CDT
DTSTART:20230312T080000
END:DAYLIGHT
BEGIN:STANDARD
TZOFFSETFROM:-0500
TZOFFSETTO:-0600
TZNAME:CST
DTSTART:20231105T070000
END:STANDARD
BEGIN:DAYLIGHT
TZOFFSETFROM:-0600
TZOFFSETTO:-0500
TZNAME:CDT
DTSTART:20240310T080000
END:DAYLIGHT
BEGIN:STANDARD
TZOFFSETFROM:-0500
TZOFFSETTO:-0600
TZNAME:CST
DTSTART:20241103T070000
END:STANDARD
END:VTIMEZONE
BEGIN:VEVENT
DTSTART;TZID=America/Chicago:20231012T173000
DTEND;TZID=America/Chicago:20231012T193000
DTSTAMP:20260425T063157
CREATED:20230803T214311Z
LAST-MODIFIED:20231010T201418Z
UID:8265-1697131800-1697139000@northpikescreek.org
SUMMARY:Annual FNPCW Membership Meeting
DESCRIPTION:Thursday\, October 12th\, the Friends of the North Pikes Creek Wetlands will hold its Annual Membership Meeting at the South Shore Brewery Taphouse at 5:30 pm. Pizza will be served\, followed by the FNPCW Annual Meeting. Following the meeting\, Ryan Brady\, Research Scientist with the Wisconsin Department of Natural Resource’s Bureau of Wildlife Management\, will present “Attracting Birds with Water Features\,” highlighting his excellent bird photography. \nMembers are encouraged to attend and help guide the Friends’ work to protect the wetlands of North Pikes Creek\, and to make recommendations for 2024 activities and speakers. \nIf you are not a member\, or your membership has lapsed\, you may join at the meeting. \nShare this:\n				Share on Facebook (Opens in new window)\n				Facebook\n			\n				Share on LinkedIn (Opens in new window)\n				LinkedIn\n			\n				Print (Opens in new window)\n				Print\n			\n				Share on X (Opens in new window)\n				X
URL:https://northpikescreek.org/calendar-event/annual-fnpcw-membership-meeting/
LOCATION:WI
ATTACH;FMTTYPE=image/jpeg:https://northpikescreek.org/wp-content/uploads/2023/08/Ttitle-slide.jpg
END:VEVENT
END:VCALENDAR