BEGIN:VCALENDAR
VERSION:2.0
PRODID:-//Friends of the North Pikes Creek Wetlands - ECPv6.15.20//NONSGML v1.0//EN
CALSCALE:GREGORIAN
METHOD:PUBLISH
X-WR-CALNAME:Friends of the North Pikes Creek Wetlands
X-ORIGINAL-URL:https://northpikescreek.org
X-WR-CALDESC:Events for Friends of the North Pikes Creek Wetlands
REFRESH-INTERVAL;VALUE=DURATION:PT1H
X-Robots-Tag:noindex
X-PUBLISHED-TTL:PT1H
BEGIN:VTIMEZONE
TZID:America/Chicago
BEGIN:DAYLIGHT
TZOFFSETFROM:-0600
TZOFFSETTO:-0500
TZNAME:CDT
DTSTART:20220313T080000
END:DAYLIGHT
BEGIN:STANDARD
TZOFFSETFROM:-0500
TZOFFSETTO:-0600
TZNAME:CST
DTSTART:20221106T070000
END:STANDARD
BEGIN:DAYLIGHT
TZOFFSETFROM:-0600
TZOFFSETTO:-0500
TZNAME:CDT
DTSTART:20230312T080000
END:DAYLIGHT
BEGIN:STANDARD
TZOFFSETFROM:-0500
TZOFFSETTO:-0600
TZNAME:CST
DTSTART:20231105T070000
END:STANDARD
BEGIN:DAYLIGHT
TZOFFSETFROM:-0600
TZOFFSETTO:-0500
TZNAME:CDT
DTSTART:20240310T080000
END:DAYLIGHT
BEGIN:STANDARD
TZOFFSETFROM:-0500
TZOFFSETTO:-0600
TZNAME:CST
DTSTART:20241103T070000
END:STANDARD
END:VTIMEZONE
BEGIN:VEVENT
DTSTART;TZID=America/Chicago:20230822T100000
DTEND;TZID=America/Chicago:20230822T110000
DTSTAMP:20260425T095339
CREATED:20230117T193610Z
LAST-MODIFIED:20230731T192208Z
UID:8105-1692698400-1692702000@northpikescreek.org
SUMMARY:Biology\, Ecology\, and Population Dynamics of Local Ma’iingan (Wolf) Packs
DESCRIPTION:Join us as Andy Edwards\, Red Cliff Treaty Natural Resources Division Administrator\, will discuss the research and monitoring work being conducted to better understand the history\, population dynamics\, and movements of the two resident Red Cliff Reservation wolf packs occupying the tip of the Bayfield Peninsula.  A brief overview of Red Cliff’s other predator monitoring work will also be provided. Registration is recommended but not required. \nREGISTER HERE\nShare this:\n				Share on Facebook (Opens in new window)\n				Facebook\n			\n				Share on LinkedIn (Opens in new window)\n				LinkedIn\n			\n				Print (Opens in new window)\n				Print\n			\n				Share on X (Opens in new window)\n				X
URL:https://northpikescreek.org/calendar-event/local-wolf-packs-23/
LOCATION:Beaver Hollow\, 88850 Compton Rd\, Bayfield\, WI\, 54814
CATEGORIES:Mammals
ATTACH;FMTTYPE=image/jpeg:https://northpikescreek.org/wp-content/uploads/2023/01/wolf-pack.jpg
END:VEVENT
END:VCALENDAR