BEGIN:VCALENDAR
VERSION:2.0
PRODID:-//Friends of the North Pikes Creek Wetlands - ECPv6.15.20//NONSGML v1.0//EN
CALSCALE:GREGORIAN
METHOD:PUBLISH
X-WR-CALNAME:Friends of the North Pikes Creek Wetlands
X-ORIGINAL-URL:https://northpikescreek.org
X-WR-CALDESC:Events for Friends of the North Pikes Creek Wetlands
REFRESH-INTERVAL;VALUE=DURATION:PT1H
X-Robots-Tag:noindex
X-PUBLISHED-TTL:PT1H
BEGIN:VTIMEZONE
TZID:America/Chicago
BEGIN:DAYLIGHT
TZOFFSETFROM:-0600
TZOFFSETTO:-0500
TZNAME:CDT
DTSTART:20220313T080000
END:DAYLIGHT
BEGIN:STANDARD
TZOFFSETFROM:-0500
TZOFFSETTO:-0600
TZNAME:CST
DTSTART:20221106T070000
END:STANDARD
BEGIN:DAYLIGHT
TZOFFSETFROM:-0600
TZOFFSETTO:-0500
TZNAME:CDT
DTSTART:20230312T080000
END:DAYLIGHT
BEGIN:STANDARD
TZOFFSETFROM:-0500
TZOFFSETTO:-0600
TZNAME:CST
DTSTART:20231105T070000
END:STANDARD
BEGIN:DAYLIGHT
TZOFFSETFROM:-0600
TZOFFSETTO:-0500
TZNAME:CDT
DTSTART:20240310T080000
END:DAYLIGHT
BEGIN:STANDARD
TZOFFSETFROM:-0500
TZOFFSETTO:-0600
TZNAME:CST
DTSTART:20241103T070000
END:STANDARD
END:VTIMEZONE
BEGIN:VEVENT
DTSTART;TZID=America/Chicago:20230809T140000
DTEND;TZID=America/Chicago:20230809T150000
DTSTAMP:20260425T094356
CREATED:20230117T164837Z
LAST-MODIFIED:20230731T162242Z
UID:8098-1691589600-1691593200@northpikescreek.org
SUMMARY:Life and Ecology of Wisconsin’s Wetland Furbearers
DESCRIPTION:John Olson\, retired WDNR Furbearer Specialist\, will discuss the life and ecology of Wisconsin’s wetland furbearers –  beaver\, otter\, mink and muskrat – and exhibit pelts and other artifacts.   John has been engaged in wildlife management for over 40 years. His work has included programs involving bald eagles\, common loons\, ospreys\, black bears and wolves. In the 1990’s John began his work in furbearer management. This promises to be an informative and exciting hands‐on presentation. \nThe event is free. Pre-registration is recommended but not required. \nREGISTER HERE\nShare this:\n				Share on Facebook (Opens in new window)\n				Facebook\n			\n				Share on LinkedIn (Opens in new window)\n				LinkedIn\n			\n				Print (Opens in new window)\n				Print\n			\n				Share on X (Opens in new window)\n				X
URL:https://northpikescreek.org/calendar-event/wetland-furbearers/
LOCATION:Beaver Hollow\, 88850 Compton Rd\, Bayfield\, WI\, 54814
CATEGORIES:Mammals
ATTACH;FMTTYPE=image/jpeg:https://northpikescreek.org/wp-content/uploads/2020/06/John-Olson.jpg
END:VEVENT
END:VCALENDAR