BEGIN:VCALENDAR
VERSION:2.0
PRODID:-//Friends of the North Pikes Creek Wetlands - ECPv6.15.20//NONSGML v1.0//EN
CALSCALE:GREGORIAN
METHOD:PUBLISH
X-ORIGINAL-URL:https://northpikescreek.org
X-WR-CALDESC:Events for Friends of the North Pikes Creek Wetlands
REFRESH-INTERVAL;VALUE=DURATION:PT1H
X-Robots-Tag:noindex
X-PUBLISHED-TTL:PT1H
BEGIN:VTIMEZONE
TZID:America/Chicago
BEGIN:DAYLIGHT
TZOFFSETFROM:-0600
TZOFFSETTO:-0500
TZNAME:CDT
DTSTART:20220313T080000
END:DAYLIGHT
BEGIN:STANDARD
TZOFFSETFROM:-0500
TZOFFSETTO:-0600
TZNAME:CST
DTSTART:20221106T070000
END:STANDARD
BEGIN:DAYLIGHT
TZOFFSETFROM:-0600
TZOFFSETTO:-0500
TZNAME:CDT
DTSTART:20230312T080000
END:DAYLIGHT
BEGIN:STANDARD
TZOFFSETFROM:-0500
TZOFFSETTO:-0600
TZNAME:CST
DTSTART:20231105T070000
END:STANDARD
BEGIN:DAYLIGHT
TZOFFSETFROM:-0600
TZOFFSETTO:-0500
TZNAME:CDT
DTSTART:20240310T080000
END:DAYLIGHT
BEGIN:STANDARD
TZOFFSETFROM:-0500
TZOFFSETTO:-0600
TZNAME:CST
DTSTART:20241103T070000
END:STANDARD
END:VTIMEZONE
BEGIN:VEVENT
DTSTART;TZID=America/Chicago:20230520T100000
DTEND;TZID=America/Chicago:20230520T140000
DTSTAMP:20260425T144504
CREATED:20230215T210055Z
LAST-MODIFIED:20230509T234113Z
UID:8127-1684576800-1684591200@northpikescreek.org
SUMMARY:Spring Ephemeral Walk & Garden Cleanup at Beaver Hollow
DESCRIPTION:Join Marisa Lee of the Chequamegon Wild Ones for a walk at Beaver Hollow\, followed by a session of garden cleanup in the pollinator garden. \nEvent postponed  to the 20th due to weather. \n10 am Spring Ephemerals walk: See what’s blooming along the new Leopold Loop through the woods at Beaver Hollow. (Note: this route departs from the universally accessible path and boardwalk at Beaver Hollow for .4 miles.) \n11 am Wildflower Garden Volunteer Day: Learn how to maintain a native wildflower garden during this service project! While there is no “big clean-up” necessary each spring and fall as in more traditional ornamental gardens\, native plantings do require some care. We’ll remove interlopers\, relocate floppers\, and divide abundant plants to spread them around. We’ll also place educational Wild Ones plant markers to help visitors identify the flowers. \nContact Marisa Lee with questions. \nShare this:\n				Share on Facebook (Opens in new window)\n				Facebook\n			\n				Share on LinkedIn (Opens in new window)\n				LinkedIn\n			\n				Print (Opens in new window)\n				Print\n			\n				Share on X (Opens in new window)\n				X
URL:https://northpikescreek.org/calendar-event/spring-ephemeral-walk-garden-cleanup-at-beaver-hollow/
LOCATION:Beaver Hollow\, 88850 Compton Rd\, Bayfield\, WI\, 54814
ATTACH;FMTTYPE=image/jpeg:https://northpikescreek.org/wp-content/uploads/2023/02/IMG_1202-1800-e1676144569497.jpg
END:VEVENT
END:VCALENDAR